BEGIN:VCALENDAR
VERSION:2.0
PRODID:-//IAPP-Greece: Advancing Health Communication Across the Health Professions - ECPv6.15.20//NONSGML v1.0//EN
CALSCALE:GREGORIAN
METHOD:PUBLISH
X-WR-CALNAME:IAPP-Greece: Advancing Health Communication Across the Health Professions
X-ORIGINAL-URL:https://iapp-greece.rutgers.edu
X-WR-CALDESC:Events for IAPP-Greece: Advancing Health Communication Across the Health Professions
REFRESH-INTERVAL;VALUE=DURATION:PT1H
X-Robots-Tag:noindex
X-PUBLISHED-TTL:PT1H
BEGIN:VTIMEZONE
TZID:America/New_York
BEGIN:DAYLIGHT
TZOFFSETFROM:-0500
TZOFFSETTO:-0400
TZNAME:EDT
DTSTART:20200308T070000
END:DAYLIGHT
BEGIN:STANDARD
TZOFFSETFROM:-0400
TZOFFSETTO:-0500
TZNAME:EST
DTSTART:20201101T060000
END:STANDARD
BEGIN:DAYLIGHT
TZOFFSETFROM:-0500
TZOFFSETTO:-0400
TZNAME:EDT
DTSTART:20210314T070000
END:DAYLIGHT
BEGIN:STANDARD
TZOFFSETFROM:-0400
TZOFFSETTO:-0500
TZNAME:EST
DTSTART:20211107T060000
END:STANDARD
BEGIN:DAYLIGHT
TZOFFSETFROM:-0500
TZOFFSETTO:-0400
TZNAME:EDT
DTSTART:20220313T070000
END:DAYLIGHT
BEGIN:STANDARD
TZOFFSETFROM:-0400
TZOFFSETTO:-0500
TZNAME:EST
DTSTART:20221106T060000
END:STANDARD
END:VTIMEZONE
BEGIN:VEVENT
DTSTART;TZID=America/New_York:20211208T180000
DTEND;TZID=America/New_York:20211208T190000
DTSTAMP:20260425T111407
CREATED:20211206T185256Z
LAST-MODIFIED:20211208T223012Z
UID:290-1638986400-1638990000@iapp-greece.rutgers.edu
SUMMARY:Info Session\, Health Communication & Health Inequalities Study Abroad
DESCRIPTION:Are you interested in a short-term study abroad experience in Crete (Greece) in Summer 2022? \nRutgers School of Communications & School of Health Professions are sponsoring a Summer Program that includes 2 weeks in Crete exploring Health Communication & Health Inequalities Across the Health Professions in Greece and the U.S. The program begins with a virtual course in Canvas\, from May 16th to May 26th>\, and then continues\, in person\, in Crete\, Greece\, from May 29th to June 11th in Crete. Final projects will be due June 24th> via Canvas. \nThis program is available for non-credit; students wishing to take it for academic credit can arrange to do so with their program directors after also consulting with this summer program’s directors (see contact information below). \nPlease visit https://global.rutgers.edu/program-search/details/summer-rutgers-health-communication-health-inequalities-across-health to learn more and attend one of our information sessions. \nInformation Sessions for Health Communication & Health Inequalities Across the Health Professions in Greece and the U.S. \nWednesday\, December 8th from 6:00 pm – 7:00 pm ET (online\, via Zoom) \nTo register for either of the Information Sessions\, please use the following link: https://forms.gle/oTVvKtcHAyBMoGXw6 \nOrganizers will send you a Zoom link that you can use to connect on your preferred date and time. \nIf you have further questions\, please email either Dr. Matthew Matsaganis (matthew.matsaganis@rutgers.edu) or Dr. Riva Touger-Decker (decker@rutgers.edu)\, the summer program directors.
URL:https://iapp-greece.rutgers.edu/event/december-8-info-session-health-communication-health-inequalities-study-abroad/
END:VEVENT
BEGIN:VEVENT
DTSTART;TZID=America/New_York:20211210T130000
DTEND;TZID=America/New_York:20211210T140000
DTSTAMP:20260425T111407
CREATED:20211206T185512Z
LAST-MODIFIED:20211208T223041Z
UID:294-1639141200-1639144800@iapp-greece.rutgers.edu
SUMMARY:Info Session\, Health Communication & Health Inequalities Study Abroad
DESCRIPTION:Are you interested in a short-term study abroad experience in Crete (Greece) in Summer 2022? \nRutgers School of Communications & School of Health Professions are sponsoring a Summer Program that includes 2 weeks in Crete exploring Health Communication & Health Inequalities Across the Health Professions in Greece and the U.S. The program begins with a virtual course in Canvas\, from May 16th to May 26th>\, and then continues\, in person\, in Crete\, Greece\, from May 29th to June 11th in Crete. Final projects will be due June 24th> via Canvas. \nThis program is available for non-credit; students wishing to take it for academic credit can arrange to do so with their program directors after also consulting with this summer program’s directors (see contact information below). \nPlease visit https://global.rutgers.edu/program-search/details/summer-rutgers-health-communication-health-inequalities-across-health to learn more and attend one of our information sessions. \nInformation Sessions for Health Communication & Health Inequalities Across the Health Professions in Greece and the U.S. \nFriday\, December 10th from 1:00 pm – 2:00 pm ET (online\, via Zoom) \nTo register for either of the Information Sessions\, please use the following link: https://forms.gle/oTVvKtcHAyBMoGXw6 \nOrganizers will send you a Zoom link that you can use to connect on your preferred date and time. \nIf you have further questions\, please email either Dr. Matthew Matsaganis (matthew.matsaganis@rutgers.edu) or Dr. Riva Touger-Decker (decker@rutgers.edu)\, the summer program directors.
URL:https://iapp-greece.rutgers.edu/event/info-session-health-communication-health-inequalities-study-abroad/
END:VEVENT
BEGIN:VEVENT
DTSTART;TZID=America/New_York:20211221T120000
DTEND;TZID=America/New_York:20211221T130000
DTSTAMP:20260425T111407
CREATED:20211208T223255Z
LAST-MODIFIED:20211208T223508Z
UID:304-1640088000-1640091600@iapp-greece.rutgers.edu
SUMMARY:Info Session\, Health Communication & Health Inequalities Study Abroad
DESCRIPTION:Are you interested in a short-term study abroad experience in Crete (Greece) in Summer 2022? \nRutgers School of Communications & School of Health Professions are sponsoring a Summer Program that includes 2 weeks in Crete exploring Health Communication & Health Inequalities Across the Health Professions in Greece and the U.S. The program begins with a virtual course in Canvas\, from May 16th to May 26th>\, and then continues\, in person\, in Crete\, Greece\, from May 29th to June 11th in Crete. Final projects will be due June 24th> via Canvas. \nThis program is available for non-credit; students wishing to take it for academic credit can arrange to do so with their program directors after also consulting with this summer program’s directors (see contact information below). \nPlease visit https://global.rutgers.edu/program-search/details/summer-rutgers-health-communication-health-inequalities-across-health to learn more and attend one of our information sessions. \nInformation Sessions for Health Communication & Health Inequalities Across the Health Professions in Greece and the U.S. \nTuesday\, December 21st from 12:00 pm – 1:00 pm ET (online\, via Zoom) \nTo register for either of the Information Sessions\, please use the following link: https://forms.gle/oTVvKtcHAyBMoGXw6 \nOrganizers will send you a Zoom link that you can use to connect on your preferred date and time. \nIf you have further questions\, please email either Dr. Matthew Matsaganis (matthew.matsaganis@rutgers.edu) or Dr. Riva Touger-Decker (decker@rutgers.edu)\, the summer program directors.
URL:https://iapp-greece.rutgers.edu/event/info-session-health-communication-health-inequalities-study-abroad-2/
END:VEVENT
END:VCALENDAR